BEGIN:VCALENDAR
VERSION:2.0
PRODID:-//wp-events-plugin.com//7.2.3.1//EN
TZID:America/Halifax
X-WR-TIMEZONE:America/Halifax
BEGIN:VEVENT
UID:553@karatens.org
DTSTART;TZID=America/Halifax;VALUE=DATE:20261105
DTEND;TZID=America/Halifax;VALUE=DATE:20261109
DTSTAMP:20260421T030742Z
URL:https://karatens.org/events/ckf-2026-commonwealth-karate-championships
 /
SUMMARY:CKF - 2026 Commonwealth Karate Championships
DESCRIPTION:\nKarate Scotland will host the next Commonwealth Karate Federa
 tion Championships in 2026.\n\n\nVisit for more details : Commonwealth Kar
 ate Federation\n\n\n\n\n\nWelcome to Glasgow and the 12th Commonwealth Kar
 ate Championships 2026.\n\n\n\n\nCKF ELITE CHAMPIONSHIPS \n\n\nElite Athl
 ete Registration:\nhttps://www.sportdata.org/.../veranstaltung_info_main.p
 hp...\n\n\nCoach/ Officials Registration:\nhttps://www.sportdata.org/.../v
 eranstaltung_info_main.php...\n\n\nReferee Registration:\nhttps://www.spor
 tdata.org/.../veranstaltung_info_main.php...\n\n\n\n\n\n\n\nCKF CLUB CHAMP
 IONSHIPS \nAthlete Registration:\nhttps://www.sportdata.org/.../veranstal
 tung_info_main.php...\n\n\nCoach/Officials Registration:\nhttps://www.spor
 tdata.org/.../veranstaltung_info_main.php...\n\n\nReferee Registration:\nh
 ttps://www.sportdata.org/.../veranstaltung_info_main.php...\n\n\n\n\n\n\n\
 nWe look forward to seeing all Commonwealth Nations in Scotland  5-8th Nov
 ember 2026
ATTACH;FMTTYPE=image/jpeg:https://karatens.org/wp-content/uploads/CKF_Logo
 .png
CATEGORIES:Tournament
END:VEVENT
BEGIN:VTIMEZONE
TZID:America/Halifax
X-LIC-LOCATION:America/Halifax
BEGIN:STANDARD
DTSTART:20261101T010000
TZOFFSETFROM:-0300
TZOFFSETTO:-0400
TZNAME:AST
END:STANDARD
END:VTIMEZONE
END:VCALENDAR