BEGIN:VCALENDAR
VERSION:2.0
PRODID:-//wp-events-plugin.com//7.2.3.1//EN
TZID:America/Halifax
X-WR-TIMEZONE:America/Halifax
BEGIN:VEVENT
UID:552@karatens.org
DTSTART;TZID=America/Halifax:20251123T100000
DTEND;TZID=America/Halifax:20251123T160000
DTSTAMP:20251107T043103Z
URL:https://karatens.org/events/kata-clinic-with-clark-upton/
SUMMARY:Kata Clinic with Clark Upton
DESCRIPTION:New Glasgow Karate Club is hosting a Kata Clinic with Clark Upt
 on\n\nMembership of Karate Nova Scotia and other Karate Canada affiliated 
 associations are invited to attend.\n\nClark has been competing nationally
  and internationally in Kata for 14 years.\nAs well as being Assistant Coa
 ch for Karate PEI in Kata.\nThis year he is returning to competition.\n\nC
 ome learn from his vast experience!\nAll are Welcome!\n\nSunday NOVEMBER 2
 3rd\n\n\nSchedule:\n\n 	10:00am - 12:00pm\n 	1:30pm - 4:00pm\n\n\nCost $35
 \n\n\nLocation: 2nd Floor 188 Dalhousie St. New Glasgow\, NS\n\nCheck out 
 the poster\n\nPlease Register by November 21st at whitaker@ns.sympatico.ca
ATTACH;FMTTYPE=image/jpeg:https://karatens.org/wp-content/uploads/20251123
 -Clark-Upton-Kata-Clinic-Poster.jpg
CATEGORIES:Kata Clinic
LOCATION:New Glasgow Karate Club\, 2nd Floor\, 188 Dalhousie Street\, New G
 lasgow\, Nova Scotia\, B2H4M3\, Atlantic\, Canada
X-APPLE-STRUCTURED-LOCATION;VALUE=URI;X-ADDRESS=2nd Floor\, 188 Dalhousie S
 treet\, New Glasgow\, Nova Scotia\, B2H4M3\, Atlantic\, Canada;X-APPLE-RAD
 IUS=100;X-TITLE=New Glasgow Karate Club:geo:0,0
END:VEVENT
BEGIN:VTIMEZONE
TZID:America/Halifax
X-LIC-LOCATION:America/Halifax
BEGIN:STANDARD
DTSTART:20251102T010000
TZOFFSETFROM:-0300
TZOFFSETTO:-0400
TZNAME:AST
END:STANDARD
END:VTIMEZONE
END:VCALENDAR