BEGIN:VCALENDAR
VERSION:2.0
PRODID:-//wp-events-plugin.com//7.2.3.1//EN
TZID:America/Halifax
X-WR-TIMEZONE:America/Halifax
BEGIN:VEVENT
UID:554@karatens.org
DTSTART;TZID=America/Halifax:20251129T100000
DTEND;TZID=America/Halifax:20251129T123000
DTSTAMP:20251114T023837Z
URL:https://karatens.org/events/kata-development-classes/
SUMMARY:Kata Development Classes
DESCRIPTION:Windsor Karate Club is excited to announce a Kata Development C
 lass — designed to help you deepen your understanding of kata\, refine t
 echnique\, and enhance overall performance.\n\nThe Windsor Karate Club is 
 hosting 7 kata development classes open to all interested.\n\nWhere: Winds
 or Karate Club\n\nWhen: Saturdays\, 10:00 AM – 12:30 PM\n\nDates:\n\n 	N
 ovember 29\n 	December 13\n 	January 10\n 	February 7\n 	March 14\n 	April
  11\n 	May 9\n\nThis series will primarily focus on Shito-ryu katas\, but 
 will also include universal drills and applications valuable to all karate
  styles.\n\nInstructors:\n\n 	Krystal Turner\n 	Hari Radhakrishnan\n 	Lorr
 aine Lazier\n\nCost Options:\n\n$15 per drop-in class\, or\n$70 for a 7-cl
 ass punch card (save $5 per class!)\n\nCheck out the poster\n\nContact: c
 ontact@windsorkarateclub.ca
ATTACH;FMTTYPE=image/jpeg:https://karatens.org/wp-content/uploads/ShitoRyu
 _Crest.jpg
CATEGORIES:Kata Clinic
LOCATION:Windsor Karate Club\, 4407 Highway #1\, Three Mile Plains\, Nova S
 cotia\, Canada
GEO:44.683975;-63.840103899999974
X-APPLE-STRUCTURED-LOCATION;VALUE=URI;X-ADDRESS=4407 Highway #1\, Three Mil
 e Plains\, Nova Scotia\, Canada;X-APPLE-RADIUS=100;X-TITLE=Windsor Karate 
 Club:geo:44.683975,-63.840103899999974
END:VEVENT
BEGIN:VTIMEZONE
TZID:America/Halifax
X-LIC-LOCATION:America/Halifax
BEGIN:STANDARD
DTSTART:20251102T010000
TZOFFSETFROM:-0300
TZOFFSETTO:-0400
TZNAME:AST
END:STANDARD
END:VTIMEZONE
END:VCALENDAR