BEGIN:VCALENDAR
VERSION:2.0
PRODID:-//wp-events-plugin.com//7.2.3.1//EN
TZID:America/Halifax
X-WR-TIMEZONE:America/Halifax
BEGIN:VEVENT
UID:529@karatens.org
DTSTART;TZID=America/Halifax;VALUE=DATE:20260220
DTEND;TZID=America/Halifax;VALUE=DATE:20260223
DTSTAMP:20250908T024821Z
URL:https://karatens.org/events/kc-2026-sr-u21-national-championships/
SUMMARY:KC - 2026 Sr  & U21 National Championships
DESCRIPTION:\nSAVE THE DATE: 2026 NATIONAL CHAMPIONSHIPS\n\n\nThe Senior a
 nd Under 21 (U21) National Championships will be held from February 20 t
 o 22\, 2026\, in Halifax\, Nova Scotia at the Halifax Convention Centre
 \, marking a return to the East Coast for one of Canada’s most prestigio
 us sporting events.\n\nMore details to come ... https://karatecanada.org/
ATTACH;FMTTYPE=image/jpeg:https://karatens.org/wp-content/uploads/KC_Logo.
 png
CATEGORIES:KNS Team,Team Canada,Tournament
END:VEVENT
BEGIN:VTIMEZONE
TZID:America/Halifax
X-LIC-LOCATION:America/Halifax
BEGIN:STANDARD
DTSTART:20251102T010000
TZOFFSETFROM:-0300
TZOFFSETTO:-0400
TZNAME:AST
END:STANDARD
END:VTIMEZONE
END:VCALENDAR