BEGIN:VCALENDAR
VERSION:2.0
PRODID:-//wp-events-plugin.com//7.2.3.1//EN
TZID:America/Halifax
X-WR-TIMEZONE:America/Halifax
BEGIN:VEVENT
UID:200@karatens.org
DTSTART;TZID=America/Halifax:20190406T090000
DTEND;TZID=America/Halifax:20190406T160000
DTSTAMP:20190218T175037Z
URL:https://karatens.org/events/knb-2019-grand-prix-tournament-1-1er-knb-t
 ournois-grand-prix/
SUMMARY:KNB - 2019 Grand Prix Tournament #1 / 1er KNB Tournois Grand Prix
DESCRIPTION:\n\n06‎ ‎Apr‎ ‎9‎:‎00‎ ‎AM – ‎04‎:‎00
 ‎ ‎PM\, Polyvalente Louis-Mailloux\, 30 Rue Cormier\, Caraquet\, NB E1
 W 1B7\, Canada\n\n\n\n\n\n\n\n\n\nKarate NB Grand Prix Tournament. Open to
  all members of KNB\, and members from other provincial Karate Association
 s affiliated with Karate Canada\n\nTournoi du Grand Prix de Karaté NB. Ou
 vert à tous les membres du KNB et aux membres d'autres associations provi
 nciales de karaté affiliées à Karaté Canada\n\n\n\n\n\n\nFor more deta
 ils and to register: https://www.karatenb.com/tournaments
CATEGORIES:Tournament
END:VEVENT
BEGIN:VTIMEZONE
TZID:America/Halifax
X-LIC-LOCATION:America/Halifax
BEGIN:DAYLIGHT
DTSTART:20190310T030000
TZOFFSETFROM:-0400
TZOFFSETTO:-0300
TZNAME:ADT
END:DAYLIGHT
END:VTIMEZONE
END:VCALENDAR