BEGIN:VCALENDAR
VERSION:2.0
PRODID:-//wp-events-plugin.com//7.2.3.1//EN
TZID:America/Halifax
X-WR-TIMEZONE:America/Halifax
BEGIN:VEVENT
UID:564@karatens.org
DTSTART;TZID=America/Halifax:20260724T000000
DTEND;TZID=America/Halifax:20260726T000000
DTSTAMP:20251114T030049Z
URL:https://karatens.org/events/knb-2026-competition-summer-camp/
SUMMARY:KNB - 2026 Competition Summer Camp
DESCRIPTION:Placeholder for event\, the camp was a huge success last year a
 nd KNB looks forward to an even more successful camp this year.\n\nAs deta
 ils become available they will be added.
ATTACH;FMTTYPE=image/jpeg:https://karatens.org/wp-content/uploads/KNS-Logo
 .png
CATEGORIES:Kata Clinic,Kumite Clinic,Social
END:VEVENT
BEGIN:VTIMEZONE
TZID:America/Halifax
X-LIC-LOCATION:America/Halifax
BEGIN:DAYLIGHT
DTSTART:20260308T030000
TZOFFSETFROM:-0400
TZOFFSETTO:-0300
TZNAME:ADT
END:DAYLIGHT
END:VTIMEZONE
END:VCALENDAR