BEGIN:VCALENDAR
VERSION:2.0
PRODID:-//wp-events-plugin.com//7.2.3.1//EN
TZID:America/Halifax
X-WR-TIMEZONE:America/Halifax
BEGIN:VEVENT
UID:563@karatens.org
DTSTART;TZID=America/Halifax:20260208T083000
DTEND;TZID=America/Halifax:20260208T153000
DTSTAMP:20251114T025642Z
URL:https://karatens.org/events/knb-tournament-technical-clinic-2/
SUMMARY:KNB - Tournament Technical Clinic
DESCRIPTION:\n\n\n\n\n\n\n\nPlaceholder\n\nWhen more details available they
  will be added to this event page.\n\n\n\n\n\n\n\n
ATTACH;FMTTYPE=image/jpeg:https://karatens.org/wp-content/uploads/KNS-Logo
 .png
CATEGORIES:Kata Clinic,Kumite Clinic
END:VEVENT
BEGIN:VTIMEZONE
TZID:America/Halifax
X-LIC-LOCATION:America/Halifax
BEGIN:STANDARD
DTSTART:20251102T010000
TZOFFSETFROM:-0300
TZOFFSETTO:-0400
TZNAME:AST
END:STANDARD
END:VTIMEZONE
END:VCALENDAR