BEGIN:VCALENDAR
VERSION:2.0
PRODID:-//wp-events-plugin.com//7.2.3.1//EN
TZID:America/Halifax
X-WR-TIMEZONE:America/Halifax
BEGIN:VEVENT
UID:537@karatens.org
DTSTART;TZID=America/Halifax:20250921T083000
DTEND;TZID=America/Halifax:20250921T153000
DTSTAMP:20250915T003348Z
URL:https://karatens.org/events/knb-tournament-technical-clinic/
SUMMARY:KNB - Tournament Technical Clinic *** CANCELLED
DESCRIPTION:\n\n\n\n\n\n\n\n2025/9/13 - Unfortunately\, due to low registra
 tion numbers\, KNB will be cancelling the upcoming tournament in Tracadie.
 \n\n&nbsp\;\nDear athletes\, coaches\, and supporters\,\nWe would like to 
 begin by apologizing for the late notice regarding our first tournament of
  the season. Due to school district policies\, we were unable to confirm t
 he dates until late last week. We appreciate your understanding and flexib
 ility as we get the season underway.\nWe are excited to announce that KNB
 's First Grand Prix Tournament of the season will take place on Saturday
 \, September 20th at École polyvalente W.-A. Losier in Tracadie\, in the 
 beautiful northern part of the province. This event offers the perfect opp
 ortunity to shake off the summer cobwebs and return to competition\, as at
 hletes from across New Brunswick—and hopefully our neighbours from Nova 
 Scotia and Prince Edward Island—come together for a day of spirited comp
 etition and camaraderie.\nFollowing the tournament\, a technical clinic 
 will be held on Sunday\, September 21st\, led by experienced coaches. Thi
 s clinic will provide athletes with valuable insights and development as w
 e build momentum toward the Atlantic Championships\, hosted here in New B
 runswick on November 1st.\nLast year\, we welcomed many new faces and club
 s\, and we look forward to even greater growth and participation this seas
 on.\nRegistration deadline: Saturday\, September 13th at 10:00 p.m.\n&nbs
 p\;\nLink to registration!\nWe encourage early registration to help us pla
 n accordingly.\nWe look forward to reconnecting with everyone and kicking 
 off the season together.\n\n\n\n\n\n\n\n\nThank You\,\nWalid\n--\n\n\n\nTh
 e objectives of Karate New / Nouveau Brunswick are to:\n\n&nbsp\;\n\n 	Be 
 a resource for all aspects of Sport Karate development in New Brunswick\;\
 n 	Support technical development for athletes\, coaches and officials\;\n 
 	Affiliate and otherwise liaise with Karate Canada and adopt its rules and
  policy framework\;\n 	At all times act on behalf of\, and represent the i
 nterests of\, the Members of Karate New / Nouveau Brunswick.\n\n\n
ATTACH;FMTTYPE=image/jpeg:https://karatens.org/wp-content/uploads/KNS-Logo
 .png
CATEGORIES:Kata Clinic,Kumite Clinic
END:VEVENT
BEGIN:VTIMEZONE
TZID:America/Halifax
X-LIC-LOCATION:America/Halifax
BEGIN:DAYLIGHT
DTSTART:20250309T030000
TZOFFSETFROM:-0400
TZOFFSETTO:-0300
TZNAME:ADT
END:DAYLIGHT
END:VTIMEZONE
END:VCALENDAR