BEGIN:VCALENDAR
VERSION:2.0
PRODID:-//wp-events-plugin.com//7.2.3.1//EN
TZID:America/Halifax
X-WR-TIMEZONE:America/Halifax
BEGIN:VEVENT
UID:531@karatens.org
DTSTART;TZID=America/Halifax:20251122T080000
DTEND;TZID=America/Halifax:20251122T180000
DTSTAMP:20251107T040030Z
URL:https://karatens.org/events/kns-2025-26-grand-prix-tournament-1/
SUMMARY:KNS - 2025-26 Grand Prix Tournament #1
DESCRIPTION:Karate NS tournaments are open to any member in good standing f
 or any provincial organization associated with Karate Canada and the WKF.\
 n\nLocation: West Bedford High\, 50 Broad St\, Bedford\, NS B4A 0T4\n\n\n\
 n\n\n\n\n\nPlease Review Rules and Divisions Prior to Completing Registrat
 ion\n\n\n\n\n\nQuestions: email info@karatens.org or tournament@karatens.
 org\n\n\n\n\nRegistration Deadline Tuesday November 18th Midnight\n\nThere
  will be NO DOOR registrations. ** Pre-registration and payment upon regis
 tration required.\n\n 	$30 ea. Kumite \n 	$25 ea. Kata \n 	$25 ea. Para 
 Athletes Kata\n 	$15 ea. Ninja Turtle\n 	$30 Team Kata ($10 per Athlete)\n
  	Referees/Judges Compete for FREE!  Must Officiate for 1/2 day.\n 	e-tra
 nsfer to "treasurer@karatens.org" include Athlete Name\, event (Kata\,Kumi
 te\,Ninja\,Team Kata\, Para Karate) and tournament date in description.\n\
 n\n\n\n\n\n\n 	Athlete Registration Here\n 	Coaches Register Here\n 	Offic
 ials Register Here\n 	Minor Officials / Volunteers Register Here\n\n\n\n\n
 \nCanteen will be available as a fundraiser for those trying out for Provi
 ncial Team. There will be a designated area set aside for eating.\n\n\n** 
 Sometimes there are challenges with email communications\, in particular g
 mail\,  add info@karatens.org as a trusted sender for future\, or keep an
  eye on junkmail folder.  **\n\n\n\n\n\n
ATTACH;FMTTYPE=image/jpeg:https://karatens.org/wp-content/uploads/KNSIMAGE
 -scaled-e1752634122470.jpg
CATEGORIES:Tournament
LOCATION:West Bedford High\, 50 Broad St\, Bedford\, NS\, B4A 0T4\, Atlanti
 c\, Canada
X-APPLE-STRUCTURED-LOCATION;VALUE=URI;X-ADDRESS=50 Broad St\, Bedford\, NS\
 , B4A 0T4\, Atlantic\, Canada;X-APPLE-RADIUS=100;X-TITLE=West Bedford High
 :geo:0,0
END:VEVENT
BEGIN:VTIMEZONE
TZID:America/Halifax
X-LIC-LOCATION:America/Halifax
BEGIN:STANDARD
DTSTART:20251102T010000
TZOFFSETFROM:-0300
TZOFFSETTO:-0400
TZNAME:AST
END:STANDARD
END:VTIMEZONE
END:VCALENDAR