BEGIN:VCALENDAR
VERSION:2.0
PRODID:-//wp-events-plugin.com//7.2.3.1//EN
TZID:America/Halifax
X-WR-TIMEZONE:America/Halifax
BEGIN:VEVENT
UID:532@karatens.org
DTSTART;TZID=America/Halifax:20260131T080000
DTEND;TZID=America/Halifax:20260131T180000
DTSTAMP:20260108T005544Z
URL:https://karatens.org/events/kns-2025-26-grand-prix-tournament-2/
SUMMARY:KNS - 2025-26 Grand Prix Tournament #2
DESCRIPTION:Karate NS tournaments are open to any member in good standing f
 or any provincial organization associated with Karate Canada and the WKF.\
 n\nLocation: Bridgetown Regional Community School - 25 Cromwell Court\, Br
 idgetown\, NS B0S 1C0\n\n\n\n\n\n\n\n\nPlease Review Rules and Divisions P
 rior to Completing Registration\n\n\n\n\n\nQuestions: email info@karatens.
 org or tournament@karatens.org\n\n\n\n\nRegistration Deadline Tuesday Jan
 uary 27th Midnight\n\nThere will be NO DOOR registrations. ** Pre-registr
 ation and payment upon registration required.\n\n 	$35 ea. Kumite ** Note 
 fee increase\n 	$30 ea. Kata ** Note fee increase\n 	$25 ea. Para Athletes
  Kata\n 	$15 ea. Ninja Turtle\n 	$30 Team Kata ($10 per Athlete)\n 	Refere
 es/Judges Compete for FREE!  Must Officiate for 1/2 day.\n 	e-transfer to
  "treasurer@karatens.org" include Athlete Name\, event (Kata\,Kumite\,Ninj
 a\,Team Kata\, Para Karate) and tournament date in description.\n\n\n\n\n\
 n\n\n 	Athlete Registration Here\n 	Coaches Register Here\n 	Officials Reg
 ister Here\n 	Minor Officials / Volunteers Register Here\n\n\n\n\n\nCantee
 n will be available as a fundraiser for those trying out for Provincial Te
 am. There will be a designated area set aside for eating.\n\n\n** Sometime
 s there are challenges with email communications\, in particular gmail\, 
  add info@karatens.org as a trusted sender for future\, or keep an eye on 
 junkmail folder.  **\n\n\n\n\n\n\n&nbsp\;\n\n&nbsp\;\n\n\n\nQuestions: em
 ail info@karatens.org or tournament@karatens.org\n\n
ATTACH;FMTTYPE=image/jpeg:https://karatens.org/wp-content/uploads/KNSIMAGE
 -scaled-e1752634122470.jpg
CATEGORIES:Tournament
LOCATION:Bridgetown Regional Community School\, 25 Cromwell Court\, Bridget
 own\, NS\, B0S1C0\, Atlantic\, Canada
X-APPLE-STRUCTURED-LOCATION;VALUE=URI;X-ADDRESS=25 Cromwell Court\, Bridget
 own\, NS\, B0S1C0\, Atlantic\, Canada;X-APPLE-RADIUS=100;X-TITLE=Bridgetow
 n Regional Community School:geo:0,0
END:VEVENT
BEGIN:VTIMEZONE
TZID:America/Halifax
X-LIC-LOCATION:America/Halifax
BEGIN:STANDARD
DTSTART:20251102T010000
TZOFFSETFROM:-0300
TZOFFSETTO:-0400
TZNAME:AST
END:STANDARD
END:VTIMEZONE
END:VCALENDAR