BEGIN:VCALENDAR
VERSION:2.0
PRODID:-//wp-events-plugin.com//7.2.3.1//EN
TZID:America/Halifax
X-WR-TIMEZONE:America/Halifax
BEGIN:VEVENT
UID:195@karatens.org
DTSTART;TZID=America/Halifax:20200425T130000
DTEND;TZID=America/Halifax:20200425T160000
DTSTAMP:20200403T023428Z
URL:https://karatens.org/events/kns-juniors-final-training-camp-closed/
SUMMARY:KNS - 2018-19 Juniors Final Team Training Camp (Closed) *** Cancell
 ed
DESCRIPTION:\n\nCLOSED TO TEAM ONLY - KATA and KUMITE\nCamp Location:  3rd
  Degree Training Halifax\, located 102 Chain Lake Drive#1L\, Halifax\, NS\
 n\n\n\n**** Time: 12:45 until 4:15 pm\, access available at 12:30 pm\nAny 
 other questions reach out to Jessica (maddoxireland@yahoo.ca)\n\n\n
ATTACH;FMTTYPE=image/jpeg:https://karatens.org/wp-content/uploads/FI_Kata_
 Camp2-1.jpg
CATEGORIES:KNS Team
END:VEVENT
BEGIN:VTIMEZONE
TZID:America/Halifax
X-LIC-LOCATION:America/Halifax
BEGIN:DAYLIGHT
DTSTART:20200308T030000
TZOFFSETFROM:-0400
TZOFFSETTO:-0300
TZNAME:ADT
END:DAYLIGHT
END:VTIMEZONE
END:VCALENDAR