BEGIN:VCALENDAR
VERSION:2.0
PRODID:-//wp-events-plugin.com//7.2.3.1//EN
TZID:America/Halifax
X-WR-TIMEZONE:America/Halifax
BEGIN:VEVENT
UID:179@karatens.org
DTSTART;TZID=America/Halifax:20190921T123000
DTEND;TZID=America/Halifax:20190921T161500
DTSTAMP:20190921T012228Z
URL:https://karatens.org/events/kns-karate-team-info-session-and-open-boot
 -camp/
SUMMARY:KNS - Karate Team Info Session and Open Boot Camp / Fitness Assessm
 ent
DESCRIPTION:\n\nPlease circulate the info at your clubs.  it is time to st
 art planning and looking forward to the 2020 team! Dojo Coaches welcome to
  attend free of charge!\n\nIn 2020 Karate Canada will continue to hold dif
 ferent Nationals for the Senior (March) and Juniors (May).  2020 will als
 o be a great year for Karate as it will makes its debut at the Olympics!\n
 \n\n\nPLEASE READ BULLETIN THOROUGHLY FOR LOCATION OF FIRST WORKOUT AND PA
 YMENT OPTION\n\n\n\n[caption id="" align="alignnone" width="150"] Tryout N
 otice[/caption]\n\n\n\n\n\n\n\nOpen team tryout camp for those interested 
 in trying out for the 2020 Team\, or for those who want a chance to check 
 out what it is all about.\n\n\n\n\n\n\n\n\n**** Dress: Gi for karate worko
 ut\, but indoor shoes and fitness clothes can be worn for fitness test.\n\
 n\nCamp Location:  3rd Degree Training Halifax\, located 102 Chain Lake D
 rive#1L\, Halifax\, NS\nDate: September 21st\n**** Time: 1 until 4:15 pm\,
  access available at 12:30 pm to change and register.\nAgenda:  Fitness t
 est (1-2 pm)\; kata &amp\; kumite training (2-3:15 pm)\; and info session 
 (3:15-4 pm) for athletes and parents where we will review the team handboo
 k\, schedule and expectations\, as well as\, meet the Coaching Staff and s
 upport team.\n\nIn 2020 Karate Canada will continue to hold different Nati
 onals for the Senior (March) and Juniors (May).  2020 will also be a grea
 t year for Karate as it will makes its debut at the Olympics!\n&nbsp\;\n\n
 &nbsp\;\nHere are some key items you need to do:\n\n 	Visit http://karate
 ns.org/programs/team/ for the complete Tryout Notice details.\n 	For the 
 1st workout\, please bring in a completed Athlete Information Sheet. and 
 registration fees.\n 	Review KNS Events page for tournament dates.\n 	Revi
 ew Training Schedule (attached)\n 	We need you to Register in advance of w
 orkout (http://karatens.org/programs/team/knst-athlete-contact-registratio
 n/).\n 	Athlete Handbook will be available online at the team page Friday 
 Sept 20th\, 9 am  We will not be providing any paper copies this year.\n\
 n\nIF you cannot make the 1st workout and still wish to tryout for the tea
 m we still need you to:\n\n 	Visit http://karatens.org/programs/team/ fo
 r the complete Tryout Notice details.\n 	For YOUR 1st workout\, please bri
 ng in a completed Athlete Information Sheet. and registration fees.\n 	Re
 view KNS Events page for tournament dates.\n 	Review Training Schedule (at
 tached)\n 	We need you to Register in advance of workout (http://karatens.
 org/programs/team/knst-athlete-contact-registration/).\n 	Athlete Handbook
  will be available online at the team page Friday Sept 20th\, 9 am.  We w
 ill not be providing any paper copies this year\n 	Notify the KNS Team Man
 ager Jessica Berilli (maddoxireland@yahoo.ca) that you are interested in 
 tryout but are unavailable for Sept 21st.\n\n&nbsp\;\n\nWe hope to see man
 y new and familiar faces out this year! Let's work hard and keep the momen
 tum going!\n\nAny other questions reach out to Jessica (maddoxireland@yaho
 o.ca)\n\n\n
CATEGORIES:KNS Team
END:VEVENT
BEGIN:VTIMEZONE
TZID:America/Halifax
X-LIC-LOCATION:America/Halifax
BEGIN:DAYLIGHT
DTSTART:20190310T030000
TZOFFSETFROM:-0400
TZOFFSETTO:-0300
TZNAME:ADT
END:DAYLIGHT
END:VTIMEZONE
END:VCALENDAR