BEGIN:VCALENDAR
VERSION:2.0
PRODID:-//wp-events-plugin.com//7.2.3.1//EN
TZID:America/Halifax
X-WR-TIMEZONE:America/Halifax
BEGIN:VEVENT
UID:180@karatens.org
DTSTART;TZID=America/Halifax:20191020T130000
DTEND;TZID=America/Halifax:20191020T170000
DTSTAMP:20191114T035155Z
URL:https://karatens.org/events/kns-kata-development-camps/
SUMMARY:KNS - 2019-20 Kata Development Camps (Open)
DESCRIPTION:Greetings Dojo Senseis\,\n\nI would like to invite you and your
  students to participate in the Karate Nova Scotia Kata development traini
 ng that will be taking this year and leading up to the Senior National Cha
 mpionships March in Calgary\, and the Youth\, Cadet\, Junior and U21 Natio
 nal Championships May in Toronto.\n\nThe training will be open to all KNS 
 members or Karate Canada Affiliates who are a minimum of 12 years of age a
 nd have achieved the rank of green belt or equivalent.  All the training 
 sessions will be held at the Windsor Karate Club at 4404 Highway #1\, Thre
 e Mile Plains\, Windsor\, NS.\n\nDojo Sensei’s are encouraged to attend.
   The training will be in conjunction with the Team Nova Scotia tryouts a
 nd the dates are listed below.  The cost of the training will be $15/ ses
 sion unless you are trying out for Team Nova Scotia in which event it is c
 overed by your $95 registration fee.  Please note the first 4 sessions wi
 ll be open to anyone however the remaining 3 will be for Team candidates o
 nly.\n\nPlease refer to the Karate Nova Scotia Athletes Handbook for team 
 selection process and criteria.\n\n\n\nDates:\nOct 20\nOpen\nSchedule:\n1:
 00 – 2:00 warm-up and basic training\n\n\n\nNov 16\nOpen\n\n2:00 – 3:0
 0 Individual kata skill development\n\n\n\nDec 15\nOpen\n\n3:00 – 3:15 B
 reak\n\n\n\nJan 4\nOpen\n\n3:15 – 3:45 presentations\n\n\n\nFeb 15\nOpen
 \n\n3:45 – 4:45 Individual kata skill development\n\n\n\nMar 15\nTeam\n\
 n4:45 – 5:00 presentations/video (team candidates only)\n\n\n\nApril 5\n
 Team\n\n\n\n\n\nIf you have any questions or concerns\, please do not hesi
 tate to contact me.\n\nSincerely\,\n\nCoach David Griffin\nHead Kata Train
 er\,\nTeam Nova Scotia
ATTACH;FMTTYPE=image/jpeg:https://karatens.org/wp-content/uploads/FI_Kata_
 Camp2-1.jpg
CATEGORIES:Kata Clinic,KNS Team
LOCATION:Windsor Karate Club\, 4404 Highway #1\, Three Mile Plains\, Nova S
 cotia\, B0N 2T0\, Atlantic\, Canada
GEO:44.966347;-64.102722
X-APPLE-STRUCTURED-LOCATION;VALUE=URI;X-ADDRESS=4404 Highway #1\, Three Mil
 e Plains\, Nova Scotia\, B0N 2T0\, Atlantic\, Canada;X-APPLE-RADIUS=100;X-
 TITLE=Windsor Karate Club:geo:44.966347,-64.102722
END:VEVENT
BEGIN:VTIMEZONE
TZID:America/Halifax
X-LIC-LOCATION:America/Halifax
BEGIN:DAYLIGHT
DTSTART:20190310T030000
TZOFFSETFROM:-0400
TZOFFSETTO:-0300
TZNAME:ADT
END:DAYLIGHT
END:VTIMEZONE
END:VCALENDAR