BEGIN:VCALENDAR
VERSION:2.0
PRODID:-//wp-events-plugin.com//7.2.3.1//EN
TZID:America/Halifax
X-WR-TIMEZONE:America/Halifax
BEGIN:VEVENT
UID:188@karatens.org
DTSTART;TZID=America/Halifax:20191005T130000
DTEND;TZID=America/Halifax:20191005T160000
DTSTAMP:20191114T041237Z
URL:https://karatens.org/events/kns-kumite-training-camp-open/
SUMMARY:KNS - 2019-20 Kumite Training Camp (Open)
DESCRIPTION:We are pleased to advise you that the time has come to get ever
 yone back together!  \n\n 	March\, Calgary for 2020 Senior National Champ
 ionships\n 	May\, Toronto for 2020 Junior National Championships (Youth\, 
 Cadet\, Junior &amp\; U21)\n\nKumite Training will take place at the Halif
 ax Ryuseikan Dojo at 1237 Cole Harbour Road\, Cole Harbour.\n\nThe team tr
 youts and training camps consist of a series of open workouts open anyone 
 (11 years and up)\, followed by a series of closed workouts for the select
 ed team.\n\nIn order to compete at Senior Nationals an athlete must be at 
 least 18 years old by Nov 17\, 2020.\n\nIn order to compete at Junior Nati
 onals an athlete must be at least 12 years old by May 1\, 2020.\n\nThe cos
 t for the fitness test &amp\; open sessions are $15 per session.\n\nThe re
 gistration cost to try out for the team is $95.00\, includes above open wo
 rkout/fitness test fees. This amount is non-refundable.\n\nDojo Coaches ar
 e encouraged to attend for free!\n\nThe Karate Nova Scotia website has a t
 eam page that will also have information as the season moves on.  Please 
 visit regularly.\n\nPlease refer to the Karate Nova Scotia Athletes Handbo
 ok for team selection process and criteria.\n\nAnyone who has questions ab
 out the team workouts please contact Greg Da Ros at darosgo@hotmail.com
ATTACH;FMTTYPE=image/jpeg:https://karatens.org/wp-content/uploads/FI_Kata_
 Camp2-1.jpg
CATEGORIES:KNS Team,Kumite Clinic
LOCATION:Halifax Ryuseikan Dojo\, 1237 Cole Harbour Road\, Cole Harbour\, N
 ova Scotia\, Canada
GEO:44.6727475;-63.477979000000005
X-APPLE-STRUCTURED-LOCATION;VALUE=URI;X-ADDRESS=1237 Cole Harbour Road\, Co
 le Harbour\, Nova Scotia\, Canada;X-APPLE-RADIUS=100;X-TITLE=Halifax Ryuse
 ikan Dojo:geo:44.6727475,-63.477979000000005
END:VEVENT
BEGIN:VTIMEZONE
TZID:America/Halifax
X-LIC-LOCATION:America/Halifax
BEGIN:DAYLIGHT
DTSTART:20190310T030000
TZOFFSETFROM:-0400
TZOFFSETTO:-0300
TZNAME:ADT
END:DAYLIGHT
END:VTIMEZONE
END:VCALENDAR