BEGIN:VCALENDAR
VERSION:2.0
PRODID:-//wp-events-plugin.com//7.2.3.1//EN
TZID:America/Halifax
X-WR-TIMEZONE:America/Halifax
BEGIN:VEVENT
UID:547@karatens.org
DTSTART;TZID=America/Halifax:20260118T090000
DTEND;TZID=America/Halifax:20260118T144500
DTSTAMP:20260117T154913Z
URL:https://karatens.org/events/kns-provincial-junior-u21-senior-team-trai
 ning/
SUMMARY:KNS - Provincial Junior\, U21 & Senior Team Training
DESCRIPTION:***** NOTE CHANGES TO LOCATION AND SCHEDULE\nWeather Notice: At
 hletes travelling from Clare have the option of missing tomorrow's trainin
 g due to the weather forecast of snow in the Valley tomorrow.\nNationals t
 his year will be split between Junior\, taking place in Edmonton\, May 202
 6\; and U21/Senior\, taking place in Halifax\, February 2026.\n\nThe train
 ing session will be as such:\n\n 	9:00 am-10:30 am - Kata (Junior\, U21 an
 d Seniors)\n 	10:30 am – 12:30 pm - Junior Kumite\n 	12:30 pm - 1:30 pm 
 - lunch break\n 	1:30 pm – 3:30 pm - U21 and Senior Kumite\n\nLocation: 
 Halifax Ryuseikan\nIf you have not done so already\, please:\n\n\n 	Regist
 er for the team using this link:\nhttps://martialmember.com/ExternalMember
 /Index/39\n 	Bring your completed Athlete Agreement Form\, found in the T
 eam Handbook here:\nhttps://karatens.org/programs/team/\n\nFor more inform
 ation about the NS Karate Team visit Provincial Team – Karate Nova Scoti
 a\n\nU14 Age Eligibilty:\n\n 	Kata/Kumite - DOB between August 28\, 2012 a
 nd August 27\, 2014\n\nCADET Age Eligibilty:\n\n 	Kata/Kumite - DOB betwee
 n August 28\, 2010 and October 14\, 2012*\n 	Team Kata - DOB between Augus
 t 28\, 2008 and October 14\, 2012*\n 	Para - DOB between May 15\, 2010 to 
 May 14\, 2012\n\nJUNIOR Age Eligibilty:\n\n 	Kata/Kumite - DOB between Aug
 ust 28\, 2008 and October 14\, 2010*\n 	Team Kata - DOB between August 28\
 , 2008 and October 14\, 2012*\n\nU21 Age Eligibilty:\n\n 	Kata/Team Kata/K
 umite – DOB between May 29\, 2005 and October 14\, 2008*\n 	Para – DOB
  on or before Feb 20\, 2010\n\nSENIOR Age Eligibilty:\n\n 	Kata/Team Kata 
 – DOB on or before May 28\, 2010\n 	Kumite – DOB on or before May 28\,
  2008\n 	Para – DOB on or before Feb 20\, 2010\n\nEvent Dates:\n\n 	20-F
 eb-26 KC SR Nationals start date (Senior &amp\; U21)\n 	14-May-26 KC JR Na
 tionals start date (U14\, Cadet\, JR)\n 	28-May-26 Anticipated start of 20
 26 Sr Pan Ams (Senior &amp\; U21)\n 	27-Aug-26 Anticipated start of 2026 J
 r Pan Ams (U14\, Cadet\, Junior)\n 	14-Oct-26 Anticipated start of 2026 Jr
  Worlds (Cadet\, Junior\, U21)\n\n*Please note that athletes born between 
 August 28th and October 14th 2008\, 2010\, and 2012 may be eligible for mo
 re than one division at the 2026 National Championships. To participate in
  the JR and SR PKF and WKF JR\, athletes must be age-eligible according to
  their age on the first day of each of these competitions.\n\n&nbsp\;\n\nI
 f you have any questions\, please reach out to any member of the coaching 
 staff or directly to the Technical Director\, Jeff Murphy | TD@karatens.or
 g\, or Greg Da Ros |  info@karatens.org.
ATTACH;FMTTYPE=image/jpeg:https://karatens.org/wp-content/uploads/KNSTLogo
 .jpg
CATEGORIES:KNS Team
LOCATION:Halifax Ryuseikan Dojo\, 1237 Cole Harbour Road\, Cole Harbour\, N
 ova Scotia\, Canada
GEO:44.6727475;-63.477979000000005
X-APPLE-STRUCTURED-LOCATION;VALUE=URI;X-ADDRESS=1237 Cole Harbour Road\, Co
 le Harbour\, Nova Scotia\, Canada;X-APPLE-RADIUS=100;X-TITLE=Halifax Ryuse
 ikan Dojo:geo:44.6727475,-63.477979000000005
END:VEVENT
BEGIN:VTIMEZONE
TZID:America/Halifax
X-LIC-LOCATION:America/Halifax
BEGIN:STANDARD
DTSTART:20251102T010000
TZOFFSETFROM:-0300
TZOFFSETTO:-0400
TZNAME:AST
END:STANDARD
END:VTIMEZONE
END:VCALENDAR