BEGIN:VCALENDAR
VERSION:2.0
PRODID:-//wp-events-plugin.com//7.2.3.1//EN
TZID:America/Halifax
X-WR-TIMEZONE:America/Halifax
BEGIN:VEVENT
UID:196@karatens.org
DTSTART;TZID=America/Halifax:20191130T130000
DTEND;TZID=America/Halifax:20191130T180000
DTSTAMP:20191104T031447Z
URL:https://karatens.org/events/kns-provincial-officials-clinic-3/
SUMMARY:KNS - Provincial Officials Clinic
DESCRIPTION:There will be a Provincial level official’s clinic on Saturda
 y November 30 at the Windsor Karate Club. It is\nopen to all KNS members b
 rown belt and above who are interested in developing and advancing their\n
 officiating skills. At this time\, we will also be conducting Provincial l
 evel certification for levels C\, B and\nA. There will be a written portio
 n of this certification and questions will be from the standard WKF kata\n
 and kumite exams. There will also be presentations from representatives of
  the various styles regarding\nthe presentation and performance of their K
 ata.\n\nWe will also need people to come in and spar and perform kata for 
 the referees. I would like to invite and encourage anyone who is competing
  or is interested in such\, to come out and take part in the practical ses
 sion from 3:30 -5:30. (see schedule below)\n\nWe cannot have a good compet
 ition without good officials so please come out and participate any way yo
 u can!!! Competitors should be in a gi\, officials can be in a track suit 
 or gi\, whichever they prefer. You can download a copy of our most current
  WKF rules at the link below.\n\nhttps://www.wkf.net/pdf/rules/WKF%20Compe
 tition%20Rules%202019_EN.pdf-eng.pdf\n\nBoth Kata and Kumite exam question
 s can be found here:\n\n 	https://www.wkf.net/pdf/AllquestionsKata_ENG2019
 .pdf\n 	https://www.wkf.net/pdf/AllquestionsKumite_ENG2019.pdf\n\nThe sche
 dule will be as follows:\n\n\n\n1:00 – 2:30\nPresentation from style rep
 resentatives\n\n\n2:30 – 3:30\nWKF Kata and Kumite Rules \n\n\n3:30 – 
 4:30\nWritten tests/kata and kumite\n\n\n4:30 – 6:00\nPractice with athl
 etes and competitors\n\n\n\nIf you have any questions or concerns\, please
  feel free to contact me at d19560809@eastlink.ca\nRegards\,\nDave Griffin
 \, Chief Referee\, Karate Nova Scotia
ATTACH;FMTTYPE=image/jpeg:https://karatens.org/wp-content/uploads/FI_Offic
 ials_01.jpg
CATEGORIES:Officials Clinic
LOCATION:Windsor Karate Club\, 4407 Highway #1\, Three Mile Plains\, Nova S
 cotia\, Canada
GEO:44.683975;-63.840103899999974
X-APPLE-STRUCTURED-LOCATION;VALUE=URI;X-ADDRESS=4407 Highway #1\, Three Mil
 e Plains\, Nova Scotia\, Canada;X-APPLE-RADIUS=100;X-TITLE=Windsor Karate 
 Club:geo:44.683975,-63.840103899999974
END:VEVENT
BEGIN:VTIMEZONE
TZID:America/Halifax
X-LIC-LOCATION:America/Halifax
BEGIN:STANDARD
DTSTART:20191103T010000
TZOFFSETFROM:-0300
TZOFFSETTO:-0400
TZNAME:AST
END:STANDARD
END:VTIMEZONE
END:VCALENDAR